BEGIN:VCALENDAR
VERSION:2.0
PRODID:-//Retire SMART - ECPv6.15.16//NONSGML v1.0//EN
CALSCALE:GREGORIAN
METHOD:PUBLISH
X-ORIGINAL-URL:https://retiresmartnow.com
X-WR-CALDESC:Events for Retire SMART
REFRESH-INTERVAL;VALUE=DURATION:PT1H
X-Robots-Tag:noindex
X-PUBLISHED-TTL:PT1H
BEGIN:VTIMEZONE
TZID:UTC
BEGIN:STANDARD
TZOFFSETFROM:+0000
TZOFFSETTO:+0000
TZNAME:UTC
DTSTART:20250101T000000
END:STANDARD
END:VTIMEZONE
BEGIN:VEVENT
DTSTART;TZID=UTC:20260512T183000
DTEND;TZID=UTC:20260512T193000
DTSTAMP:20260421T232227
CREATED:20260223T173415Z
LAST-MODIFIED:20260223T173544Z
UID:10000065-1778610600-1778614200@retiresmartnow.com
SUMMARY:Estate & Tax Planning in Retirement
DESCRIPTION:Estate & Tax Planning in Retirement\n			May 12\n	 @\n6:30 pm\n	 –\n7:30 pm \nJoin Financial Advisor Mike Schudel and Estate Planning Attorney Colin Kastrick for an insightful workshop designed to boost your financial confidence and help you make SMART\, informed choices about your estate. \nTogether\, we’ll explore practical strategies to bring clarity to complex topics: \n\nSmart Moves for Couples – Learn how some couples may be able to avoid federal estate taxes with the right planning.\nWhy Trusts Matter – Discover how a trust can offer greater protection and control\, especially for homeowners.\nKeeping It in the Family – Make sure your loved ones stay in control of your assets—not the courts.\nWills vs. Trusts – Understand the key differences and which option may be right for you.\nHow to Avoid Probate – Get tips on how to bypass this often time-consuming and expensive legal process.\n\nWhether you’re just starting to think about estate planning or want to refine your existing strategy\, this workshop is designed with you in mind. \n\nEstate & Tax Planning in Retirement (Event)\n\n"*" indicates required fields \n\n                        X/TwitterThis field is for validation purposes and should be left unchanged. \n\nName*\n                                                    \n                                                    First\n                                                    \n                                                    Last\n                        \nEmail Address*\n                            \n                        Phone Number* \n\nAdditional Guests (One Guest Per Line- Press Plus for Additional Guests)*\nNameEmail    Add   Remove\nPhoneCAPTCHAPost Custom Field\n         \n            \n            \n            \n            \n            \n            \n            \n            \n            \n            \n             \nΔ \n\nOther\n\n\n	Phone Number\n\n	402-369-7777\n\n	Email Address\n\n	events@retiresmartnow.com\n\n\n			\n		FNB Pkwy suite			\n	\n\n13815 FNB Pkwy suite 400\n		\n		Omaha\,\n	NE\n	68154\n	United States
URL:https://retiresmartnow.com/event/estate-tax-planning-in-retirement/
LOCATION:FNB Pkwy suite\, 13815 FNB Pkwy suite 400\, Omaha\, NE\, 68154\, United States
ATTACH;FMTTYPE=image/jpeg:https://retiresmartnow.com/wp-content/uploads/2025/02/487_image.jpg
END:VEVENT
BEGIN:VEVENT
DTSTART;TZID=UTC:20260602T183000
DTEND;TZID=UTC:20260602T193000
DTSTAMP:20260421T232227
CREATED:20260223T174725Z
LAST-MODIFIED:20260223T175016Z
UID:10000066-1780425000-1780428600@retiresmartnow.com
SUMMARY:Social Security Blueprint
DESCRIPTION:Social Security Blueprint\n			June 2\n	 @\n6:30 pm\n	 –\n7:30 pm \nGet ready for a valuable and informative session led by Financial Advisor Brad Starken\, where you’ll gain practical strategies for making the most of your Social Security benefits. \nDuring this workshop\, you’ll learn: \n\nWhy Social Security plays a vital role in building a strong retirement income plan\nWhat you need to know before claiming—the key factors that could impact your benefits\nHow to design a retirement income strategy tailored to your goals and lifestyle\nPlus\, helpful tips and insights you won’t want to miss!\n\nWhether you’re approaching retirement or just starting to plan ahead\, this workshop will give you the tools to make confident\, informed decisions. \n\nSMART Social Security Blueprint – EVENT\n\n"*" indicates required fields \n\n                        X/TwitterThis field is for validation purposes and should be left unchanged. \n\nName*\n                                                    \n                                                    First\n                                                    \n                                                    Last\n                        \nEmail Address*\n                            \n                        Phone Number* \n\nAdditional Guests (One Guest Per Line- Press Plus for Additional Guests)*\nNameEmail    Add   Remove\nPhoneCAPTCHA\n         \n            \n            \n            \n            \n            \n            \n            \n            \n            \n            \n             \nΔ \n\nOther\n\n\n	Phone Number\n\n	402-369-7777\n\n	Email Address\n\n	events@retiresmartnow.com\n\n\n			\n		FNB Pkwy suite			\n	\n\n13815 FNB Pkwy suite 400\n		\n		Omaha\,\n	NE\n	68154\n	United States
URL:https://retiresmartnow.com/event/social-security-blueprint/
LOCATION:FNB Pkwy suite\, 13815 FNB Pkwy suite 400\, Omaha\, NE\, 68154\, United States
ATTACH;FMTTYPE=image/jpeg:https://retiresmartnow.com/wp-content/uploads/2025/02/424_image.jpg
END:VEVENT
BEGIN:VEVENT
DTSTART;TZID=UTC:20260604T183000
DTEND;TZID=UTC:20260604T193000
DTSTAMP:20260421T232227
CREATED:20260223T175248Z
LAST-MODIFIED:20260223T175436Z
UID:10000067-1780597800-1780601400@retiresmartnow.com
SUMMARY:Social Security Blueprint
DESCRIPTION:Social Security Blueprint\n			June 4\n	 @\n6:30 pm\n	 –\n7:30 pm \nGet ready for a valuable and informative session led by Financial Advisor Brad Starken\, where you’ll gain practical strategies for making the most of your Social Security benefits. \nDuring this workshop\, you’ll learn: \n\nWhy Social Security plays a vital role in building a strong retirement income plan\nWhat you need to know before claiming—the key factors that could impact your benefits\nHow to design a retirement income strategy tailored to your goals and lifestyle\nPlus\, helpful tips and insights you won’t want to miss!\n\nWhether you’re approaching retirement or just starting to plan ahead\, this workshop will give you the tools to make confident\, informed decisions. \n\nSMART Social Security Blueprint – EVENT\n\n"*" indicates required fields \n\n                        CompanyThis field is for validation purposes and should be left unchanged. \n\nName*\n                                                    \n                                                    First\n                                                    \n                                                    Last\n                        \nEmail Address*\n                            \n                        Phone Number* \n\nAdditional Guests (One Guest Per Line- Press Plus for Additional Guests)*\nNameEmail    Add   Remove\nPhoneCAPTCHA\n         \n            \n            \n            \n            \n            \n            \n            \n            \n            \n            \n             \nΔ \n\nOther\n\n\n	Phone Number\n\n	402-369-7777\n\n	Email Address\n\n	events@retiresmartnow.com\n\n\n			\n		FNB Pkwy suite			\n	\n\n13815 FNB Pkwy suite 400\n		\n		Omaha\,\n	NE\n	68154\n	United States
URL:https://retiresmartnow.com/event/social-security-blueprint-3/
LOCATION:FNB Pkwy suite\, 13815 FNB Pkwy suite 400\, Omaha\, NE\, 68154\, United States
ATTACH;FMTTYPE=image/jpeg:https://retiresmartnow.com/wp-content/uploads/2025/02/424_image.jpg
END:VEVENT
BEGIN:VEVENT
DTSTART;TZID=UTC:20260707T183000
DTEND;TZID=UTC:20260707T193000
DTSTAMP:20260421T232227
CREATED:20260305T145948Z
LAST-MODIFIED:20260305T150217Z
UID:10000070-1783449000-1783452600@retiresmartnow.com
SUMMARY:Estate & Tax Planning in Retirement
DESCRIPTION:Estate & Tax Planning in Retirement\n			July 7\n	 @\n6:30 pm\n	 –\n7:30 pm \nJoin Financial Advisor Mike Schudel and Estate Planning Attorney Colin Kastrick for an insightful workshop designed to boost your financial confidence and help you make SMART\, informed choices about your estate. \nTogether\, we’ll explore practical strategies to bring clarity to complex topics: \n\nSmart Moves for Couples – Learn how some couples may be able to avoid federal estate taxes with the right planning.\nWhy Trusts Matter – Discover how a trust can offer greater protection and control\, especially for homeowners.\nKeeping It in the Family – Make sure your loved ones stay in control of your assets—not the courts.\nWills vs. Trusts – Understand the key differences and which option may be right for you.\nHow to Avoid Probate – Get tips on how to bypass this often time-consuming and expensive legal process.\n\nWhether you’re just starting to think about estate planning or want to refine your existing strategy\, this workshop is designed with you in mind. \n\nEstate & Tax Planning in Retirement (Event)\n\n"*" indicates required fields \n\n                        CommentsThis field is for validation purposes and should be left unchanged. \n\nName*\n                                                    \n                                                    First\n                                                    \n                                                    Last\n                        \nEmail Address*\n                            \n                        Phone Number* \n\nAdditional Guests (One Guest Per Line- Press Plus for Additional Guests)*\nNameEmail    Add   Remove\nPhoneCAPTCHAPost Custom Field\n         \n            \n            \n            \n            \n            \n            \n            \n            \n            \n            \n             \nΔ \n\nOther\n\n\n	Phone Number\n\n	402-369-7777\n\n	Email Address\n\n	events@retiresmartnow.com\n\n\n			\n		FNB Pkwy suite			\n	\n\n13815 FNB Pkwy suite 400\n		\n		Omaha\,\n	NE\n	68154\n	United States
URL:https://retiresmartnow.com/event/estate-tax-planning-in-retirement-4/
LOCATION:FNB Pkwy suite\, 13815 FNB Pkwy suite 400\, Omaha\, NE\, 68154\, United States
ATTACH;FMTTYPE=image/jpeg:https://retiresmartnow.com/wp-content/uploads/2025/02/487_image.jpg
END:VEVENT
BEGIN:VEVENT
DTSTART;TZID=UTC:20260708T183000
DTEND;TZID=UTC:20260708T193000
DTSTAMP:20260421T232227
CREATED:20260305T151151Z
LAST-MODIFIED:20260305T151258Z
UID:10000072-1783535400-1783539000@retiresmartnow.com
SUMMARY:Decoding Digital Assets
DESCRIPTION:Decoding Digital Assets\n			July 8\n	 @\n6:30 pm\n	 –\n7:30 pm \nJoin us for a hands-on workshop to learn all about how digital currency affects the economy! \nBitcoin has undeniably generated interest and curiosity among investors and the general public. However\, skepticism often accompanies this interest. Only 5% of boomers feel confident discussing cryptocurrency\, highlighting the need for education. \nFinancial Advisor Brad Starken seeks to clarify the rationale behind cryptocurrency\, focusing on Bitcoin. The agenda includes: \n\nDefining Bitcoin\nExploring the underlying blockchain technology\nInvestigating Central Bank Digital Currencies (CBDC) such as the Digital Dollar\nComparing Bitcoin and Ethereum as leading cryptocurrencies\nEvaluating the potential impact of ETF approvals on the market.\n\nThis educational workshop aims to close the knowledge gap on Bitcoin and potentially ease its skepticism. \n\nDecoding Digital Assets\n\n"*" indicates required fields \n\n                        NameThis field is for validation purposes and should be left unchanged. \n\nName*\n                                                    \n                                                    First\n                                                    \n                                                    Last\n                        \nEmail Address*\n                            \n                        Phone Number* \n\nAdditional Guests (One Guest Per Line- Press Plus for Additional Guests)*\nNameEmail    Add   Remove\nPhoneCAPTCHA\n         \n            \n            \n            \n            \n            \n            \n            \n            \n            \n            \n             \nΔ \n\nOther\n\n\n	Phone Number\n\n	402-369-7777\n\n	Email Address\n\n	events@retiresmartnow.com\n\n\n			\n		FNB Pkwy suite			\n	\n\n13815 FNB Pkwy suite 400\n		\n		Omaha\,\n	NE\n	68154\n	United States
URL:https://retiresmartnow.com/event/decoding-digital-assets/
LOCATION:FNB Pkwy suite\, 13815 FNB Pkwy suite 400\, Omaha\, NE\, 68154\, United States
ATTACH;FMTTYPE=image/jpeg:https://retiresmartnow.com/wp-content/uploads/2025/02/366_image.jpg
END:VEVENT
BEGIN:VEVENT
DTSTART;TZID=UTC:20260709T183000
DTEND;TZID=UTC:20260709T193000
DTSTAMP:20260421T232227
CREATED:20260305T150541Z
LAST-MODIFIED:20260305T150638Z
UID:10000071-1783621800-1783625400@retiresmartnow.com
SUMMARY:Estate & Tax Planning in Retirement
DESCRIPTION:Estate & Tax Planning in Retirement\n			July 9\n	 @\n6:30 pm\n	 –\n7:30 pm \nJoin Financial Advisor Mike Schudel and Estate Planning Attorney Colin Kastrick for an insightful workshop designed to boost your financial confidence and help you make SMART\, informed choices about your estate. \nTogether\, we’ll explore practical strategies to bring clarity to complex topics: \n\nSmart Moves for Couples – Learn how some couples may be able to avoid federal estate taxes with the right planning.\nWhy Trusts Matter – Discover how a trust can offer greater protection and control\, especially for homeowners.\nKeeping It in the Family – Make sure your loved ones stay in control of your assets—not the courts.\nWills vs. Trusts – Understand the key differences and which option may be right for you.\nHow to Avoid Probate – Get tips on how to bypass this often time-consuming and expensive legal process.\n\nWhether you’re just starting to think about estate planning or want to refine your existing strategy\, this workshop is designed with you in mind. \n\nEstate & Tax Planning in Retirement (Event)\n\n"*" indicates required fields \n\n                        NameThis field is for validation purposes and should be left unchanged. \n\nName*\n                                                    \n                                                    First\n                                                    \n                                                    Last\n                        \nEmail Address*\n                            \n                        Phone Number* \n\nAdditional Guests (One Guest Per Line- Press Plus for Additional Guests)*\nNameEmail    Add   Remove\nPhoneCAPTCHAPost Custom Field\n         \n            \n            \n            \n            \n            \n            \n            \n            \n            \n            \n             \nΔ \n\nOther\n\n\n	Phone Number\n\n	402-369-7777\n\n	Email Address\n\n	events@retiresmartnow.com\n\n\n			\n		FNB Pkwy suite			\n	\n\n13815 FNB Pkwy suite 400\n		\n		Omaha\,\n	NE\n	68154\n	United States
URL:https://retiresmartnow.com/event/estate-tax-planning-in-retirement-5/
LOCATION:FNB Pkwy suite\, 13815 FNB Pkwy suite 400\, Omaha\, NE\, 68154\, United States
ATTACH;FMTTYPE=image/jpeg:https://retiresmartnow.com/wp-content/uploads/2025/02/487_image.jpg
END:VEVENT
END:VCALENDAR